BEGIN:VCALENDAR
VERSION:2.0
PRODID:-//Ipsef - ECPv6.0.6.2//NONSGML v1.0//EN
CALSCALE:GREGORIAN
METHOD:PUBLISH
X-WR-CALNAME:Ipsef
X-ORIGINAL-URL:https://www.ipsef.eu
X-WR-CALDESC:Events for Ipsef
REFRESH-INTERVAL;VALUE=DURATION:PT1H
X-Robots-Tag:noindex
X-PUBLISHED-TTL:PT1H
BEGIN:VTIMEZONE
TZID:UTC
BEGIN:STANDARD
TZOFFSETFROM:+0000
TZOFFSETTO:+0000
TZNAME:UTC
DTSTART:20210101T000000
END:STANDARD
END:VTIMEZONE
BEGIN:VEVENT
DTSTART;TZID=UTC:20211128T173000
DTEND;TZID=UTC:20211128T183000
DTSTAMP:20260419T234029
CREATED:20210930T092646Z
LAST-MODIFIED:20210930T124115Z
UID:181-1638120600-1638124200@www.ipsef.eu
SUMMARY:Psicologia del consumatore | Metodi e tecniche della Ricerca di Mercato Qualitativa
DESCRIPTION:Si è svolta il 28 giugno la presentazione del Corso di Specializzazione in Psicologia del consumatore: metodi e tecniche della ricerca di mercato qualitativa.\nL’evento online è stato animato dall’intervento della Dott.ssa Giulia Fabrizi\, membro Esomar&Insight250 e co-rappresentante per l’Italia dal 2017 al 2021. Nel video i moduli che saranno alla base dell’ insegnamento in grado di migliorare le competenze degli addetti ai lavori e di orientare gli aspiranti analisti di mercato.
URL:https://www.ipsef.eu/evento/psicologia-del-consumatore-metodi-e-tecniche-della-ricerca-di-mercato-qualitativa/
CATEGORIES:Corso di Specializzazione
ATTACH;FMTTYPE=image/jpeg:https://www.ipsef.eu/wp-content/uploads/2021/07/Psicologia-del-consumatore-Metodi-e-tecniche-della-Ricerca-di-Mercato-Qualitativa-ev.jpg
END:VEVENT
END:VCALENDAR