BEGIN:VCALENDAR
VERSION:2.0
PRODID:-//Ipsef - ECPv6.0.6.2//NONSGML v1.0//EN
CALSCALE:GREGORIAN
METHOD:PUBLISH
X-WR-CALNAME:Ipsef
X-ORIGINAL-URL:https://www.ipsef.eu
X-WR-CALDESC:Events for Ipsef
REFRESH-INTERVAL;VALUE=DURATION:PT1H
X-Robots-Tag:noindex
X-PUBLISHED-TTL:PT1H
BEGIN:VTIMEZONE
TZID:UTC
BEGIN:STANDARD
TZOFFSETFROM:+0000
TZOFFSETTO:+0000
TZNAME:UTC
DTSTART:20210101T000000
END:STANDARD
END:VTIMEZONE
BEGIN:VEVENT
DTSTART;TZID=UTC:20211106T173000
DTEND;TZID=UTC:20211106T183000
DTSTAMP:20260419T213820
CREATED:20210930T095438Z
LAST-MODIFIED:20210930T124318Z
UID:198-1636219800-1636223400@www.ipsef.eu
SUMMARY:Innovazione nella gestione manageriale: competenze evolute e strumenti digitali per vincere in contesti competitivi
DESCRIPTION:Il 16 giugno 2021 si è svolto il webinar di presentazione del corso di specializzazione in “Innovazione nella gestione manageriale: competenze evolute e strumenti digitali per vincere in contesti competitivi”. \nIl corso è alla sua prima edizione ed è interamente costruito su tematiche attuali\, affrontando le nuove sfide dei manager in epoca Covid e post Covid. La pandemia da Covid 19 ha infatti stravolto il modo di lavorare\, di relazionarsi con clienti\, partner\, collaboratori ed è proprio l’evoluzione del business e della comunicazione digitale ad aver imposto all’Università Giustino Fortunato la progettazione di questo percorso di specializzazione.
URL:https://www.ipsef.eu/evento/innovazione-nella-gestione-manageriale-competenze-evolute-e-strumenti-digitali-per-vincere-in-contesti-competitivi/
CATEGORIES:Corso di Specializzazione
ATTACH;FMTTYPE=image/jpeg:https://www.ipsef.eu/wp-content/uploads/2021/07/eventi-manager-4.0-ev.jpg
END:VEVENT
END:VCALENDAR